BEGIN:VCALENDAR
VERSION:2.0
PRODID:-//Blue Heron Environmental - ECPv6.15.20//NONSGML v1.0//EN
CALSCALE:GREGORIAN
METHOD:PUBLISH
X-ORIGINAL-URL:https://www.blueheronenv.com
X-WR-CALDESC:Events for Blue Heron Environmental
REFRESH-INTERVAL;VALUE=DURATION:PT1H
X-Robots-Tag:noindex
X-PUBLISHED-TTL:PT1H
BEGIN:VTIMEZONE
TZID:America/Toronto
BEGIN:DAYLIGHT
TZOFFSETFROM:-0500
TZOFFSETTO:-0400
TZNAME:EDT
DTSTART:20250309T070000
END:DAYLIGHT
BEGIN:STANDARD
TZOFFSETFROM:-0400
TZOFFSETTO:-0500
TZNAME:EST
DTSTART:20251102T060000
END:STANDARD
BEGIN:DAYLIGHT
TZOFFSETFROM:-0500
TZOFFSETTO:-0400
TZNAME:EDT
DTSTART:20260308T070000
END:DAYLIGHT
BEGIN:STANDARD
TZOFFSETFROM:-0400
TZOFFSETTO:-0500
TZNAME:EST
DTSTART:20261101T060000
END:STANDARD
BEGIN:DAYLIGHT
TZOFFSETFROM:-0500
TZOFFSETTO:-0400
TZNAME:EDT
DTSTART:20270314T070000
END:DAYLIGHT
BEGIN:STANDARD
TZOFFSETFROM:-0400
TZOFFSETTO:-0500
TZNAME:EST
DTSTART:20271107T060000
END:STANDARD
END:VTIMEZONE
BEGIN:VEVENT
DTSTART;TZID=America/Toronto:20260604T130000
DTEND;TZID=America/Toronto:20260604T140000
DTSTAMP:20260421T093420
CREATED:20260127T150751Z
LAST-MODIFIED:20260127T150751Z
UID:55186-1780578000-1780581600@www.blueheronenv.com
SUMMARY:Conducting Environmental Site Inspections
DESCRIPTION:
URL:https://www.blueheronenv.com/event/conducting-env-site-inspections-june-2026/
LOCATION:Online (Virtual)
CATEGORIES:Environmental Compliance & Legislation,Monitors,Online,Technicians
ATTACH;FMTTYPE=image/jpeg:https://www.blueheronenv.com/wp-content/uploads/2025/06/event-training-CNL-Enviro-Inspec-101.jpg
ORGANIZER;CN="Blue Heron Environmental":MAILTO:events@blueheronenv.com
END:VEVENT
BEGIN:VEVENT
DTSTART;TZID=America/Toronto:20260624T090000
DTEND;TZID=America/Toronto:20260625T153000
DTSTAMP:20260421T093420
CREATED:20260112T224756Z
LAST-MODIFIED:20260420T192503Z
UID:55151-1782291600-1782401400@www.blueheronenv.com
SUMMARY:Planning Environmental Emergency Response Drills
DESCRIPTION:
URL:https://www.blueheronenv.com/event/env-emergency-response-drills-june-2026/
LOCATION:Online (Virtual)
CATEGORIES:Coordinators,Emergency Response & Preparedness,Online
ATTACH;FMTTYPE=image/jpeg:https://www.blueheronenv.com/wp-content/uploads/2026/01/event-training-ERP-Emer-Drill-Plan-201.jpg
ORGANIZER;CN="Blue Heron Environmental":MAILTO:events@blueheronenv.com
END:VEVENT
END:VCALENDAR